{
 "currentVersion": 11.3,
 "cimVersion": "3.3.0",
 "serviceDescription": "Multi Scan IGN (Scan multi-échelles) tuilé\nScan25 (v3.0 édition 2017-07)\nScan100 (<2017)\nScanReg (v2.0 édition 2020)\nScan1000 (v2.1 édition 2020)",
 "mapName": "MultiScan_IGN_v2",
 "description": "Multi Scan IGN (Scan multi-échelles) tuilé\nScan25 (v3.0 édition 2017-07)\nScan100 (<2017)\nScanReg (v2.0 édition 2020)\nScan1000 (v2.1 édition 2020)",
 "copyrightText": "©IGN 2020-2017",
 "supportsDynamicLayers": true,
 "layers": [
  {
   "id": 0,
   "name": "Scan 25",
   "parentLayerId": -1,
   "defaultVisibility": true,
   "subLayerIds": null,
   "minScale": 25000,
   "maxScale": 2500,
   "type": "Raster Layer",
   "supportsDynamicLegends": true
  },
  {
   "id": 1,
   "name": "Scan 100",
   "parentLayerId": -1,
   "defaultVisibility": true,
   "subLayerIds": null,
   "minScale": 80000,
   "maxScale": 25001,
   "type": "Raster Layer",
   "supportsDynamicLegends": true
  },
  {
   "id": 2,
   "name": "Scan 250",
   "parentLayerId": -1,
   "defaultVisibility": true,
   "subLayerIds": null,
   "minScale": 250000,
   "maxScale": 80001,
   "type": "Raster Layer",
   "supportsDynamicLegends": true
  },
  {
   "id": 3,
   "name": "Scan 1000",
   "parentLayerId": -1,
   "defaultVisibility": true,
   "subLayerIds": null,
   "minScale": 0,
   "maxScale": 250001,
   "type": "Raster Layer",
   "supportsDynamicLegends": true
  }
 ],
 "tables": [],
 "spatialReference": {
  "wkid": 102110,
  "latestWkid": 2154,
  "xyTolerance": 0.001,
  "zTolerance": 0.001,
  "mTolerance": 0.001,
  "falseX": -35597500,
  "falseY": -23641900,
  "xyUnits": 1.2407465052332792E8,
  "falseZ": -100000,
  "zUnits": 10000,
  "falseM": -100000,
  "mUnits": 10000
 },
 "singleFusedMapCache": true,
 "tileInfo": {
  "rows": 256,
  "cols": 256,
  "dpi": 96,
  "format": "MIXED",
  "compressionQuality": 80,
  "origin": {
   "x": -35597500,
   "y": 48953100
  },
  "spatialReference": {
   "wkid": 102110,
   "latestWkid": 2154,
   "xyTolerance": 0.001,
   "zTolerance": 0.001,
   "mTolerance": 0.001,
   "falseX": -35597500,
   "falseY": -23641900,
   "xyUnits": 1.2407465052332792E8,
   "falseZ": -100000,
   "zUnits": 10000,
   "falseM": -100000,
   "mUnits": 10000
  },
  "lods": [
   {
    "level": 0,
    "resolution": 1600,
    "scale": 6047232
   },
   {
    "level": 1,
    "resolution": 800,
    "scale": 3023616
   },
   {
    "level": 2,
    "resolution": 400,
    "scale": 1511808
   },
   {
    "level": 3,
    "resolution": 200,
    "scale": 755904
   },
   {
    "level": 4,
    "resolution": 100,
    "scale": 377952
   },
   {
    "level": 5,
    "resolution": 75,
    "scale": 283464
   },
   {
    "level": 6,
    "resolution": 66.1459656252646,
    "scale": 250000
   },
   {
    "level": 7,
    "resolution": 50,
    "scale": 188976
   },
   {
    "level": 8,
    "resolution": 25,
    "scale": 94488
   },
   {
    "level": 9,
    "resolution": 21.16670900008467,
    "scale": 80000
   },
   {
    "level": 10,
    "resolution": 15.000000000000002,
    "scale": 56692.8
   },
   {
    "level": 11,
    "resolution": 10,
    "scale": 37795.2
   },
   {
    "level": 12,
    "resolution": 6.614596562526459,
    "scale": 25000
   },
   {
    "level": 13,
    "resolution": 5,
    "scale": 18897.6
   },
   {
    "level": 14,
    "resolution": 2.5,
    "scale": 9448.8
   },
   {
    "level": 15,
    "resolution": 1.6,
    "scale": 6047.232
   }
  ]
 },
 "storageInfo": {
  "storageFormat": "esriMapCacheStorageModeCompactV2",
  "packetSize": 128
 },
 "initialExtent": {
  "xmin": 78741.46482305872,
  "ymin": 6749436.110689377,
  "xmax": 236328.4664319322,
  "ymax": 6889319.509269405,
  "spatialReference": {
   "wkid": 102110,
   "latestWkid": 2154,
   "xyTolerance": 0.001,
   "zTolerance": 0.001,
   "mTolerance": 0.001,
   "falseX": -35597500,
   "falseY": -23641900,
   "xyUnits": 1.2407465052332792E8,
   "falseZ": -100000,
   "zUnits": 10000,
   "falseM": -100000,
   "mUnits": 10000
  }
 },
 "fullExtent": {
  "xmin": -28951.976678025632,
  "ymin": 6606014.1355608,
  "xmax": 518949.75742602063,
  "ymax": 6914014.1355608,
  "spatialReference": {
   "wkid": 102110,
   "latestWkid": 2154,
   "xyTolerance": 0.001,
   "zTolerance": 0.001,
   "mTolerance": 0.001,
   "falseX": -35597500,
   "falseY": -23641900,
   "xyUnits": 1.2407465052332792E8,
   "falseZ": -100000,
   "zUnits": 10000,
   "falseM": -100000,
   "mUnits": 10000
  }
 },
 "datesInUnknownTimezone": false,
 "minScale": 755904,
 "maxScale": 6047.232,
 "units": "esriMeters",
 "supportedImageFormatTypes": "PNG32,PNG24,PNG,JPG,DIB,TIFF,EMF,PS,PDF,GIF,SVG,SVGZ,BMP",
 "documentInfo": {
  "Title": "Multi Scan IGN",
  "Author": "",
  "Comments": "Multi Scan IGN (Scan multi-échelles) tuilé\nScan25 (v3.0 édition 2017-07)\nScan100 (<2017)\nScanReg (v2.0 édition 2020)\nScan1000 (v2.1 édition 2020)",
  "Subject": "Multi Scan IGN (Scan multi-échelles)",
  "Category": "",
  "Version": "2.4.0",
  "AntialiasingMode": "Fast",
  "TextAntialiasingMode": "Force",
  "Keywords": "SCAN,IGN,RASTER,CD29,REFERENTIEL"
 },
 "supportsQueryDomains": true,
 "capabilities": "Map,Query,Data",
 "supportedQueryFormats": "JSON, geoJSON, PBF",
 "exportTilesAllowed": false,
 "referenceScale": 0.0,
 "supportsDatumTransformation": true,
 "archivingInfo": {
  "supportsHistoricMoment": false
 },
 "supportsClipping": true,
 "supportsSpatialFilter": true,
 "supportsTimeRelation": true,
 "supportsQueryDataElements": true,
 "mapUnits": {
  "uwkid": 9001
 },
 "maxRecordCount": 2000,
 "maxImageHeight": 4096,
 "maxImageWidth": 4096,
 "supportedExtensions": "",
 "serviceItemId": "0818dc7ecb6742bd9c9242adcf3245e7"
}
