{
 "currentVersion": 11.3,
 "cimVersion": "3.3.0",
 "serviceDescription": "Orthophotographie réalisée sur le territoire du Finistère en 2018 dans le cadre d'un marché Mégalis Bretagne et suivi techniquement par le pôle métier ortho29 de GéoBretagne. Caractéristiques techniques : Résolution : 20 cm Précision : 40 cm\nLa prise de vue a été réalisée en été 2018.\n",
 "mapName": "Ortho2018",
 "description": "Orthophotographie réalisée sur le territoire du Finistère en 2018 dans le cadre d'un marché Mégalis Bretagne et suivi techniquement par le pôle métier ortho29 de GéoBretagne. Caractéristiques techniques : Résolution : 20 cm Précision : 40 cm\nLa prise de vue a été réalisée en été 2018.",
 "copyrightText": "© Mégalis et les collectivités bretonnes 2018",
 "supportsDynamicLayers": true,
 "layers": [
  {
   "id": 0,
   "name": "ORTHO_29_2018_L93_RVB_JPEG70.tif",
   "parentLayerId": -1,
   "defaultVisibility": true,
   "subLayerIds": null,
   "minScale": 0,
   "maxScale": 0,
   "type": "Raster Layer",
   "supportsDynamicLegends": true
  }
 ],
 "tables": [],
 "spatialReference": {
  "wkid": 102110,
  "latestWkid": 2154,
  "xyTolerance": 0.001,
  "zTolerance": 0.001,
  "mTolerance": 0.001,
  "falseX": -35597500,
  "falseY": -23641900,
  "xyUnits": 1.2407465052332792E8,
  "falseZ": -100000,
  "zUnits": 10000,
  "falseM": -100000,
  "mUnits": 10000
 },
 "singleFusedMapCache": true,
 "tileInfo": {
  "rows": 256,
  "cols": 256,
  "dpi": 96,
  "format": "MIXED",
  "compressionQuality": 75,
  "origin": {
   "x": 20200,
   "y": 6950400
  },
  "spatialReference": {
   "wkid": 102110,
   "latestWkid": 2154,
   "xyTolerance": 0.001,
   "zTolerance": 0.001,
   "mTolerance": 0.001,
   "falseX": -35597500,
   "falseY": -23641900,
   "xyUnits": 1.2407465052332792E8,
   "falseZ": -100000,
   "zUnits": 10000,
   "falseM": -100000,
   "mUnits": 10000
  },
  "lods": [
   {
    "level": 0,
    "resolution": 1600,
    "scale": 6047232
   },
   {
    "level": 1,
    "resolution": 800,
    "scale": 3023616
   },
   {
    "level": 2,
    "resolution": 400,
    "scale": 1511808
   },
   {
    "level": 3,
    "resolution": 200,
    "scale": 755904
   },
   {
    "level": 4,
    "resolution": 100,
    "scale": 377952
   },
   {
    "level": 5,
    "resolution": 75,
    "scale": 283464
   },
   {
    "level": 6,
    "resolution": 66.1459656252646,
    "scale": 250000
   },
   {
    "level": 7,
    "resolution": 50,
    "scale": 188976
   },
   {
    "level": 8,
    "resolution": 25,
    "scale": 94488
   },
   {
    "level": 9,
    "resolution": 21.16670900008467,
    "scale": 80000
   },
   {
    "level": 10,
    "resolution": 15.000000000000002,
    "scale": 56692.8
   },
   {
    "level": 11,
    "resolution": 10,
    "scale": 37795.2
   },
   {
    "level": 12,
    "resolution": 6.614596562526459,
    "scale": 25000
   },
   {
    "level": 13,
    "resolution": 5,
    "scale": 18897.6
   },
   {
    "level": 14,
    "resolution": 2.5,
    "scale": 9448.8
   },
   {
    "level": 15,
    "resolution": 1.6,
    "scale": 6047.232
   },
   {
    "level": 16,
    "resolution": 0.8,
    "scale": 3023.616
   },
   {
    "level": 17,
    "resolution": 0.4,
    "scale": 1511.808
   },
   {
    "level": 18,
    "resolution": 0.2,
    "scale": 755.904
   },
   {
    "level": 19,
    "resolution": 0.1,
    "scale": 377.952
   }
  ]
 },
 "storageInfo": {
  "storageFormat": "esriMapCacheStorageModeCompactV2",
  "packetSize": 128
 },
 "initialExtent": {
  "xmin": 26053.641207815264,
  "ymin": 6745800,
  "xmax": 295946.35879218474,
  "ymax": 6882200,
  "spatialReference": {
   "wkid": 102110,
   "latestWkid": 2154,
   "xyTolerance": 0.001,
   "zTolerance": 0.001,
   "mTolerance": 0.001,
   "falseX": -35597500,
   "falseY": -23641900,
   "xyUnits": 1.2407465052332792E8,
   "falseZ": -100000,
   "zUnits": 10000,
   "falseM": -100000,
   "mUnits": 10000
  }
 },
 "fullExtent": {
  "xmin": 97000,
  "ymin": 6752000,
  "xmax": 225000,
  "ymax": 6876000,
  "spatialReference": {
   "wkid": 102110,
   "latestWkid": 2154,
   "xyTolerance": 0.001,
   "zTolerance": 0.001,
   "mTolerance": 0.001,
   "falseX": -35597500,
   "falseY": -23641900,
   "xyUnits": 1.2407465052332792E8,
   "falseZ": -100000,
   "zUnits": 10000,
   "falseM": -100000,
   "mUnits": 10000
  }
 },
 "datesInUnknownTimezone": false,
 "minScale": 6047232,
 "maxScale": 377.952,
 "units": "esriMeters",
 "supportedImageFormatTypes": "PNG32,PNG24,PNG,JPG,DIB,TIFF,EMF,PS,PDF,GIF,SVG,SVGZ,BMP",
 "documentInfo": {
  "Title": "Ortho2018",
  "Author": "",
  "Comments": "Orthophotographie réalisée sur le territoire du Finistère en 2018 dans le cadre d'un marché Mégalis Bretagne et suivi techniquement par le pôle métier ortho29 de GéoBretagne. Caractéristiques techniques : Résolution : 20 cm Précision : 40 cm\nLa prise de vue a été réalisée en été 2018.",
  "Subject": "Orthophotographie du Finistère en 2018",
  "Category": "",
  "Version": "2.9.0",
  "AntialiasingMode": "Fast",
  "TextAntialiasingMode": "Force",
  "Keywords": "CD29,ORTHOPHOTOGRAPHIE,MEGALIS,REF,REFERENTIEL,ORTHOPHOTO"
 },
 "supportsQueryDomains": true,
 "capabilities": "Query,Map,Data",
 "supportedQueryFormats": "JSON, geoJSON, PBF",
 "exportTilesAllowed": false,
 "referenceScale": 0.0,
 "supportsDatumTransformation": true,
 "floorAwareMapProperties": {
  "defaultFloorFilterSettings": {
   "isEnabled": true
  }
 },
 "archivingInfo": {
  "supportsHistoricMoment": false
 },
 "supportsClipping": true,
 "supportsSpatialFilter": true,
 "supportsTimeRelation": true,
 "supportsQueryDataElements": true,
 "mapUnits": {
  "uwkid": 9001
 },
 "maxRecordCount": 1000,
 "maxImageHeight": 4096,
 "maxImageWidth": 4096,
 "supportedExtensions": "",
 "resampling": true,
 "serviceItemId": "a3f27608a54c40c08a4327a65992e067"
}
